BEGIN:VCALENDAR
PRODID:-//eluceo/ical//2.0/EN
VERSION:2.0
CALSCALE:GREGORIAN
BEGIN:VEVENT
UID:a3d98a3fc8fe15b8f959954b1ed441c2
DTSTAMP:20260424T235224Z
SUMMARY:Habayit Tots at NCJC
DESCRIPTION:Jewish Federation & Foundation of Rockland County\nPJ Library F
 amily Calendar\nhttps://jewishrockland.org/family-calendar/habayit-tots-at
 -ncjc-1772558778-512360\n\nJoin us to celebrate Shabbat with songs\, activ
 ities and COW TIPPING! Kid friendly dinner will be served!
DTSTART;TZID=America/New_York:20260306T170000
DTEND;TZID=America/New_York:20260306T180000
END:VEVENT
END:VCALENDAR
