BEGIN:VCALENDAR
PRODID:-//eluceo/ical//2.0/EN
VERSION:2.0
CALSCALE:GREGORIAN
BEGIN:VEVENT
UID:25243e615bae34c51ebb9774bb7456d5
DTSTAMP:20260420T191015Z
SUMMARY:Habayit Tots dinner and Kabbalat Shabbat
DESCRIPTION:Jewish Federation & Foundation of Rockland County\nPJ Library F
 amily Calendar\nhttps://jewishrockland.org/family-calendar/habayit-tots-di
 nner-and-kabbalat-shabbat-1741027267-487382\n\nJoin Morah Amy for dinner\,
  activities\, songs and celebration!
DTSTART;TZID=America/New_York:20250307T170000
DTEND;TZID=America/New_York:20250307T180000
END:VEVENT
END:VCALENDAR
