BEGIN:VCALENDAR
PRODID:-//eluceo/ical//2.0/EN
VERSION:2.0
CALSCALE:GREGORIAN
BEGIN:VEVENT
UID:9768e624359624608c01ece98d211ae5
DTSTAMP:20260421T174620Z
SUMMARY:Habayit Tots Havdalah Celebration
DESCRIPTION:Jewish Federation & Foundation of Rockland County\nPJ Library F
 amily Calendar\nhttps://jewishrockland.org/family-calendar/habayit-tots-ha
 vdalah-celebration-1736796697-484048\n\nTreats\, games\, songs and so much
  fun! Join Morah Amy for the last Havdalah of the season!
DTSTART;TZID=America/New_York:20250215T173000
DTEND;TZID=America/New_York:20250215T183000
END:VEVENT
END:VCALENDAR
