BEGIN:VCALENDAR
PRODID:-//eluceo/ical//2.0/EN
VERSION:2.0
CALSCALE:GREGORIAN
BEGIN:VEVENT
UID:31b54ec90c49e4fb5057187080604c7a
DTSTAMP:20260419T161141Z
SUMMARY:Habayit Tots Kabbalat Shabbat\, Friday Night Celebration
DESCRIPTION:Jewish Federation & Foundation of Rockland County\nPJ Library F
 amily Calendar\nhttps://jewishrockland.org/family-calendar/habayit-tots-ka
 bbalat-shabbat-friday-night-celebration-1736796574-484047\n\nJoin Morah Am
 y to explore this week's exciting stories\, songs\, games and creations!
DTSTART;TZID=America/New_York:20250207T164500
DTEND;TZID=America/New_York:20250207T174500
END:VEVENT
END:VCALENDAR
