BEGIN:VCALENDAR
PRODID:-//eluceo/ical//2.0/EN
VERSION:2.0
CALSCALE:GREGORIAN
BEGIN:VEVENT
UID:a7de8210b9ef5b09de286614fdfdcc85
DTSTAMP:20260423T013628Z
SUMMARY:Habayit Tots NCJC
DESCRIPTION:Jewish Federation & Foundation of Rockland County\nPJ Library F
 amily Calendar\nhttps://jewishrockland.org/family-calendar/habayit-tots-nc
 jc-1776710846-515033\n\nJoin Amy and friends for a special mother's day ce
 lebration. Bring you favorite "mama" with you! Dinner will be served and a
  special mother's day treat!
DTSTART;TZID=America/New_York:20260509T170000
DTEND;TZID=America/New_York:20260509T183000
END:VEVENT
END:VCALENDAR
