BEGIN:VCALENDAR
PRODID:-//eluceo/ical//2.0/EN
VERSION:2.0
CALSCALE:GREGORIAN
BEGIN:VEVENT
UID:786f89217d5397335eb583325ee2dc2d
DTSTAMP:20260423T013617Z
SUMMARY:Habayit Tots NCJC Shavuot Celebration
DESCRIPTION:Jewish Federation & Foundation of Rockland County\nPJ Library F
 amily Calendar\nhttps://jewishrockland.org/family-calendar/habayit-tots-nc
 jc-shavuot-celebration-1776710969-515035\n\nJoin NCJC tots for a morning c
 elebrating the torah. Games\, food and fun!
DTSTART;TZID=America/New_York:20260523T103000
DTEND;TZID=America/New_York:20260523T113000
END:VEVENT
END:VCALENDAR
