BEGIN:VCALENDAR
PRODID:-//eluceo/ical//2.0/EN
VERSION:2.0
CALSCALE:GREGORIAN
BEGIN:VEVENT
UID:42f631a35e2cb3df04f67cfd0fb66219
DTSTAMP:20260421T133235Z
SUMMARY:Habayit Tots Purim
DESCRIPTION:Jewish Federation & Foundation of Rockland County\nPJ Library F
 amily Calendar\nhttps://jewishrockland.org/family-calendar/habayit-tots-pu
 rim-1741028327-487386\n\nJoin Morah Amy for a special Purim morning celebr
 ation! Fun and games\, food and activities!!
DTSTART;TZID=America/New_York:20250314T094500
DTEND;TZID=America/New_York:20250314T111500
END:VEVENT
END:VCALENDAR
