BEGIN:VCALENDAR
PRODID:-//eluceo/ical//2.0/EN
VERSION:2.0
CALSCALE:GREGORIAN
BEGIN:VEVENT
UID:452d7943493e1f5896c095755cc8e383
DTSTAMP:20260424T195639Z
SUMMARY:Habayit Tots Torah and Treats!
DESCRIPTION:Jewish Federation & Foundation of Rockland County\nPJ Library F
 amily Calendar\nhttps://jewishrockland.org/family-calendar/habayit-tots-to
 rah-and-treats-1715791072-466171\n\nCelebrate Shavuot with stories\, songs
 \, art and (non) baking!
DTSTART;TZID=America/New_York:20240608T113000
DTEND;TZID=America/New_York:20240612T123000
END:VEVENT
END:VCALENDAR
