BEGIN:VCALENDAR
PRODID:-//eluceo/ical//2.0/EN
VERSION:2.0
CALSCALE:GREGORIAN
BEGIN:VEVENT
UID:9adec4bc58971bbc14301847647f5110
DTSTAMP:20260421T120422Z
SUMMARY:Habyit Tots Rosh Hashana Celebration - Day 1
DESCRIPTION:Jewish Federation & Foundation of Rockland County\nPJ Library F
 amily Calendar\nhttps://jewishrockland.org/family-calendar/habyit-tots-ros
 h-hashana-celebration---day-1-1756139747-499035\n\nJoin friends and family
  at NCJC for a Rosh Hashana celebration with learning\, snacks and lots of
  fun!! One program for each day of the holiday\, 1hr-1.5 hours.
DTSTART;TZID=America/New_York:20250923T100000
DTEND;TZID=America/New_York:20250923T113000
END:VEVENT
END:VCALENDAR
