BEGIN:VCALENDAR
PRODID:-//eluceo/ical//2.0/EN
VERSION:2.0
CALSCALE:GREGORIAN
BEGIN:VEVENT
UID:f3fcf2b3114a8ed82ee76464b4924ec3
DTSTAMP:20260419T231905Z
SUMMARY:Habyit Tots Rosh Hashana (DAY 2)
DESCRIPTION:Jewish Federation & Foundation of Rockland County\nPJ Library F
 amily Calendar\nhttps://jewishrockland.org/family-calendar/habyit-tots-ros
 h-hashana-day-2-1724862090-475654\n\nCelebrate Rosh Hashana with friends! 
 Explore\, create\, dance\, sing and have fun with the holiday! Ages 2-8!
DTSTART;TZID=America/New_York:20241004T100000
DTEND;TZID=America/New_York:20241004T110000
END:VEVENT
END:VCALENDAR
