BEGIN:VCALENDAR
PRODID:-//eluceo/ical//2.0/EN
VERSION:2.0
CALSCALE:GREGORIAN
BEGIN:VEVENT
UID:162ede92fb453026f27ea35b6ec270c8
DTSTAMP:20260424T045800Z
SUMMARY:Ice Cream and Puppets in the Sukkah
DESCRIPTION:Jewish Federation & Foundation of Rockland County\nPJ Library F
 amily Calendar\nhttps://jewishrockland.org/family-calendar/ice-cream-and-p
 uppets-in-the-sukkah-1664814865\n\nThis Sukkot\, bring the kids for a PJ L
 ibrary puppet show in the sukkah with Rabbi Paul and Gerri Kurland at Cong
 regation Shir Shalom!
DTSTART;TZID=America/New_York:20221013T163000
DTEND;TZID=America/New_York:20221013T180000
END:VEVENT
END:VCALENDAR
