BEGIN:VCALENDAR
PRODID:-//eluceo/ical//2.0/EN
VERSION:2.0
CALSCALE:GREGORIAN
BEGIN:VEVENT
UID:0044e01e6a509ef562adad98094a11ee
DTSTAMP:20260420T112409Z
SUMMARY:J-Hoops Jr. for Kindergarten\, 1st & 2nd graders
DESCRIPTION:Jewish Federation & Foundation of Rockland County\nPJ Library F
 amily Calendar\nhttps://jewishrockland.org/family-calendar/j-hoops-jr-for-
 kindergarten-1st--2nd-graders-1559385849\n\nJ Hoops basketball programs ar
 e our most popular leagues that we run at JCC Rockland with over 600 kids 
 participating!\n\nOur kindergarten and first grade divisions expose our yo
 ungest players to basketball through fun skills and drills. They cap off t
 heir practice time with a friendly game.\nPlayers in grades 2-12 experienc
 e a competitive game played along with good sportsmanship and teamwork. Ou
 r 2-12 division are our largest divisions.\n\nFor those that really enjoy 
 the sport\, we expanded...
DTSTART;TZID=America/New_York:20191027T123000
DTEND;TZID=America/New_York:20191027T160000
END:VEVENT
END:VCALENDAR
