BEGIN:VCALENDAR
PRODID:-//eluceo/ical//2.0/EN
VERSION:2.0
CALSCALE:GREGORIAN
BEGIN:VEVENT
UID:428660a660476961ff6c29ef93c941a6
DTSTAMP:20260420T142006Z
SUMMARY:JKids Open House
DESCRIPTION:Jewish Federation & Foundation of Rockland County\nPJ Library F
 amily Calendar\nhttps://jewishrockland.org/family-calendar/jkids-open-hous
 e-1735937263-483437\n\nDISCOVER ALL THAT JKIDS HAS TO OFFER!\nSunday\, Jan
 uary 26\n1–3 PM\nJCC Rockland\nFree and Open to the Community!\n\nJoin u
 s for a fun-filled afternoon to learn about our amazing children and famil
 y programs. Enjoy crafts\, sports\, and a delicious s’mores & hot chocol
 ate bar while connecting with other families.\n\nExplore what makes our co
 mmunity special!\n\nThis is the perfect opportunity to meet our team\, ask
  questions\, and see how J Kids can become a part of your family’s journ
 ey. For...
DTSTART;TZID=America/New_York:20250126T130000
DTEND;TZID=America/New_York:20250126T150000
END:VEVENT
END:VCALENDAR
