BEGIN:VCALENDAR
PRODID:-//eluceo/ical//2.0/EN
VERSION:2.0
CALSCALE:GREGORIAN
BEGIN:VEVENT
UID:43d89121b5c862a1550cc28f93105af3
DTSTAMP:20260424T131244Z
SUMMARY:K'tanim: Chanukah
DESCRIPTION:Jewish Federation & Foundation of Rockland County\nPJ Library F
 amily Calendar\nhttps://jewishrockland.org/family-calendar/ktanim-chanukah
 -1561567837\n\nFree monthly Preschool Program
DTSTART;TZID=America/New_York:20191215T090000
DTEND;TZID=America/New_York:20191215T100000
END:VEVENT
END:VCALENDAR
