BEGIN:VCALENDAR
PRODID:-//eluceo/ical//2.0/EN
VERSION:2.0
CALSCALE:GREGORIAN
BEGIN:VEVENT
UID:e6e6caf0724e50044e05250eac6a8a57
DTSTAMP:20260421T054625Z
SUMMARY:K'tanim: Jewish Stories
DESCRIPTION:Jewish Federation & Foundation of Rockland County\nPJ Library F
 amily Calendar\nhttps://jewishrockland.org/family-calendar/ktanim-jewish-s
 tories-1561567949\n\nFree Monthly Preschool Program
DTSTART;TZID=America/New_York:20200112T090000
DTEND;TZID=America/New_York:20200112T100000
END:VEVENT
END:VCALENDAR
