BEGIN:VCALENDAR
PRODID:-//eluceo/ical//2.0/EN
VERSION:2.0
CALSCALE:GREGORIAN
BEGIN:VEVENT
UID:054d363e120164b25e2ae23466491fef
DTSTAMP:20260424T031750Z
SUMMARY:K'tanim: Mitzvot
DESCRIPTION:Jewish Federation & Foundation of Rockland County\nPJ Library F
 amily Calendar\nhttps://jewishrockland.org/family-calendar/ktanim-mitzvot-
 1561567716\n\nFree monthly Preschool Program
DTSTART;TZID=America/New_York:20191117T090000
DTEND;TZID=America/New_York:20191117T100000
END:VEVENT
END:VCALENDAR
