BEGIN:VCALENDAR
PRODID:-//eluceo/ical//2.0/EN
VERSION:2.0
CALSCALE:GREGORIAN
BEGIN:VEVENT
UID:46ebced150678112299b98f12eb93109
DTSTAMP:20260420T190350Z
SUMMARY:Lag B'omer Family Fun Fair
DESCRIPTION:Jewish Federation & Foundation of Rockland County\nPJ Library F
 amily Calendar\nhttps://jewishrockland.org/family-calendar/lag-bomer-famil
 y-fun-fair-1651849801\n\nBBQ\, Concessions\, Music\, Face Painting\, Petti
 ng Zoo\, Giant Inflatables\, Clown Show\, Mega Bonfire (subject to permit)
 !
DTSTART;TZID=America/New_York:20220519T170000
DTEND;TZID=America/New_York:20220519T190000
END:VEVENT
END:VCALENDAR
