BEGIN:VCALENDAR
PRODID:-//eluceo/ical//2.0/EN
VERSION:2.0
CALSCALE:GREGORIAN
BEGIN:VEVENT
UID:ad807ea3c5ee8bad55769e2e780d1ac4
DTSTAMP:20260424T094412Z
SUMMARY:Latkes and Pajamas at NCJC
DESCRIPTION:Jewish Federation & Foundation of Rockland County\nPJ Library F
 amily Calendar\nhttps://jewishrockland.org/family-calendar/latkes-and-paja
 mas-at-ncjc-1732212785-480952\n\nWear your PJs to havdalah! Bring a pair o
 f new pajamas or socks to donate to those in need! Havdalah\, songs and ar
 t!\nAges 2-8 with or without a grownup!
DTSTART;TZID=America/New_York:20241228T170000
DTEND;TZID=America/New_York:20241228T180000
END:VEVENT
END:VCALENDAR
