BEGIN:VCALENDAR
PRODID:-//eluceo/ical//2.0/EN
VERSION:2.0
CALSCALE:GREGORIAN
BEGIN:VEVENT
UID:d452711538f6217458985591a19c8d32
DTSTAMP:20260420T233123Z
SUMMARY:Meet & Mingle Shabbat Barbeque
DESCRIPTION:Jewish Federation & Foundation of Rockland County\nPJ Library F
 amily Calendar\nhttps://jewishrockland.org/family-calendar/meet--mingle-sh
 abbat-barbeque-1562792517\n\nJoin the NHC Family for a fun filled evening 
 of singing\, games and prayer. Meet Rabbi Paul Kurland and his puppets alo
 ng with Cantor Barry Kanarek. Tot Shabbat @ 5:00 pm followed by a barbeque
 . No Charge BUT you must RSVP By September 3.\n\nWhen you RSVP say you saw
  the ad on the PJ Library calendar website
DTSTART;TZID=America/New_York:20190906T170000
DTEND;TZID=America/New_York:20190906T200000
END:VEVENT
END:VCALENDAR
