BEGIN:VCALENDAR
PRODID:-//eluceo/ical//2.0/EN
VERSION:2.0
CALSCALE:GREGORIAN
BEGIN:VEVENT
UID:142ee08ff9b10d938cf65b5f457f51e1
DTSTAMP:20260422T092811Z
SUMMARY:Mini Baseball
DESCRIPTION:Jewish Federation & Foundation of Rockland County\nPJ Library F
 amily Calendar\nhttps://jewishrockland.org/family-calendar/mini-baseball-1
 579017863\n\nBring your 2\, 3\, or 4 year old to learn the sport of baseba
 ll from the best youth coach around!
DTSTART;TZID=America/New_York:20200315T100000
DTEND;TZID=America/New_York:20200419T114500
END:VEVENT
END:VCALENDAR
