BEGIN:VCALENDAR
PRODID:-//eluceo/ical//2.0/EN
VERSION:2.0
CALSCALE:GREGORIAN
BEGIN:VEVENT
UID:76c20840c3f5add5646105ab69f66223
DTSTAMP:20260424T194315Z
SUMMARY:Mini Basketball for 2-4 year olds
DESCRIPTION:Jewish Federation & Foundation of Rockland County\nPJ Library F
 amily Calendar\nhttps://jewishrockland.org/family-calendar/mini-basketball
 -for-2-4-year-olds-1559383629\n\nOne of JCC Rockland’s most popular prog
 rams. This coed class teaches the basics of basketball\, while utilizing f
 un exercises and techniques. This motivational environment will help parti
 cipants learn\, all while having fun!\n\n2 year olds play at 10-10:45am\n3
  & 4 year olds play at 11-11:45am\n\n$105 per 5 classes (Discounted rates 
 available for JCC Rockland members)\nIncludes t-shirt and medal
DTSTART;TZID=America/New_York:20191027T104500
DTEND;TZID=America/New_York:20191027T114500
END:VEVENT
END:VCALENDAR
