BEGIN:VCALENDAR
PRODID:-//eluceo/ical//2.0/EN
VERSION:2.0
CALSCALE:GREGORIAN
BEGIN:VEVENT
UID:753262b79924aa17d05911b92f5ae2a2
DTSTAMP:20260423T000742Z
SUMMARY:Mini Soccer
DESCRIPTION:Jewish Federation & Foundation of Rockland County\nPJ Library F
 amily Calendar\nhttps://jewishrockland.org/family-calendar/mini-soccer-157
 9018050\n\nBring your 2\, 3\, and 4 year old to learn the sport of soccer 
 from the best youth coach around!
DTSTART;TZID=America/New_York:20200426T100000
DTEND;TZID=America/New_York:20200607T114500
END:VEVENT
END:VCALENDAR
