BEGIN:VCALENDAR
PRODID:-//eluceo/ical//2.0/EN
VERSION:2.0
CALSCALE:GREGORIAN
BEGIN:VEVENT
UID:bcb2fd72d9e8956102d3360e160e4a05
DTSTAMP:20260420T092428Z
SUMMARY:Mini Soccer for 2\, 3 and 4 year olds
DESCRIPTION:Jewish Federation & Foundation of Rockland County\nPJ Library F
 amily Calendar\nhttps://jewishrockland.org/family-calendar/mini-soccer-for
 -2-3-and-4-year-olds-1560013448\n\nExplore. Create. Play. \n\nEnrichment c
 lasses give young children the opportunity to discover new talents\, use t
 heir imaginations and enjoy themselves through play and exploration. \n\nO
 ne of JCC Rockland&rsquo\;s most popular programs! This coed class teaches
  the basics of soccer\, while utilizing fun exercises and techniques. This
  motivational environment will help participants learn all while having fu
 n. \n\n4 year olds from 2:30-3:15pm\n2 year olds from 3:30-4:15pm\n3 year 
 olds from...
DTSTART;TZID=America/New_York:20190911T143000
DTEND;TZID=America/New_York:20190911T171500
END:VEVENT
END:VCALENDAR
