BEGIN:VCALENDAR
PRODID:-//eluceo/ical//2.0/EN
VERSION:2.0
CALSCALE:GREGORIAN
BEGIN:VEVENT
UID:2f2c73cd09d7b3dc70ca44c1ac6b1c84
DTSTAMP:20260422T113459Z
SUMMARY:Navigating the Journey of Divorce and Coparenting
DESCRIPTION:Jewish Federation & Foundation of Rockland County\nPJ Library F
 amily Calendar\nhttps://jewishrockland.org/family-calendar/navigating-the-
 journey-of-divorce-and-coparenting-1565203948\n\nThe emotions of divorce a
 nd coparenting can be overwhelming. In this three part course we will expl
 ore ways to think clearly and make effective decisions even when seething 
 in anger\, overwhelmed by fear\, feeling uncertain and experiencing the ot
 her emotions that arise. This course will give you the tools to deal with 
 common coparenting conflicts and help you to respond appropriately to your
  children\, even when taken off guard. We want you to feel supported by ot
 her parents in your situation...
DTSTART;TZID=America/New_York:20191024T193000
DTEND;TZID=America/New_York:20191024T210000
END:VEVENT
END:VCALENDAR
