BEGIN:VCALENDAR
PRODID:-//eluceo/ical//2.0/EN
VERSION:2.0
CALSCALE:GREGORIAN
BEGIN:VEVENT
UID:c4de7d677308cb7ec5801de55666d893
DTSTAMP:20260424T191559Z
SUMMARY:OJC's Early Kabbalat Shabbat -EKS
DESCRIPTION:Jewish Federation & Foundation of Rockland County\nPJ Library F
 amily Calendar\nhttps://jewishrockland.org/family-calendar/ojcs-early-kabb
 alat-shabbat--eks-1771123332-511230\n\nA Shabbat experience designed for f
 amilies with children. This is an informal interactive service filled with
  music\, dancing and storytelling followed by a FREE family dinner with Ra
 bbi Hersh to welcome Shabbat
DTSTART;TZID=America/New_York:20260515T174500
DTEND;TZID=America/New_York:20260515T194500
END:VEVENT
END:VCALENDAR
