BEGIN:VCALENDAR
PRODID:-//eluceo/ical//2.0/EN
VERSION:2.0
CALSCALE:GREGORIAN
BEGIN:VEVENT
UID:7dca67f361c58f746d8ff0ff52e3b136
DTSTAMP:20260420T171212Z
SUMMARY:Parent Committee meeting
DESCRIPTION:Jewish Federation & Foundation of Rockland County\nPJ Library F
 amily Calendar\nhttps://jewishrockland.org/family-calendar/parent-committe
 e-meeting\n\nThe first PJ Library Parent Committee meeting will be held ne
 xt week Thursday November 3rd at 7pm over Zoom!\n\nPJ Library Parent Commi
 ttees\n\n\nConnecting PJ parents\nEncouraging PJ library grants for Jewish
 -themed family get-togethers\nIdeas for future PJ playdates\nBest dates an
 d times for PJ playdates\n\n\nPJ Our Way\n\nThe PJ Library Parent Committe
 e will build a PJ Our Way program for children who have reached the PJ Our
  Way age threshold (9-12) centered around volunteering opportu...
DTSTART;TZID=America/New_York:20221103T190000
DTEND;TZID=America/New_York:20221103T200000
END:VEVENT
END:VCALENDAR
