BEGIN:VCALENDAR
PRODID:-//eluceo/ical//2.0/EN
VERSION:2.0
CALSCALE:GREGORIAN
BEGIN:VEVENT
UID:a9773dba2b1d16518e2e2e00a9d424ad
DTSTAMP:20260421T111328Z
SUMMARY:PJ Shabbat
DESCRIPTION:Jewish Federation & Foundation of Rockland County\nPJ Library F
 amily Calendar\nhttps://jewishrockland.org/family-calendar/pj-shabbat-1648
 840847\n\nSnuggle up with PJ Shabbat! Don't miss out on the fun everyone's
  talking about! Open to everyone! RSVP (not required\, but always apprecia
 ted) to RabbiGraber@newcityjc.org
DTSTART;TZID=America/New_York:20220401T174500
DTEND;TZID=America/New_York:20220401T194500
END:VEVENT
END:VCALENDAR
