BEGIN:VCALENDAR
PRODID:-//eluceo/ical//2.0/EN
VERSION:2.0
CALSCALE:GREGORIAN
BEGIN:VEVENT
UID:39dbb68144cb156bdb479940411d297a
DTSTAMP:20260423T001641Z
SUMMARY:Pop-Up Shabbat
DESCRIPTION:Jewish Federation & Foundation of Rockland County\nPJ Library F
 amily Calendar\nhttps://jewishrockland.org/family-calendar/pop-up-shabbat-
 1561567249\n\nLooking for your Jewish home away from home? See if The Refo
 rm Temple of Rockland is the right fit for your family and attend the RTR 
 Pop-Up Shabbat! Meet our Director of Congregational Learning\, have a pizz
 a party and make crafts with your kids\, then join us for a song-filled Fr
 iday Night Service! Please RSVP to info@RTRny.org. We’ll see you there!
DTSTART;TZID=America/New_York:20190802T170000
DTEND;TZID=America/New_York:20190802T180000
END:VEVENT
END:VCALENDAR
