BEGIN:VCALENDAR
PRODID:-//eluceo/ical//2.0/EN
VERSION:2.0
CALSCALE:GREGORIAN
BEGIN:VEVENT
UID:afc271fa944a8218363c08c68cfa6c2d
DTSTAMP:20260422T124608Z
SUMMARY:Purim Carnival
DESCRIPTION:Jewish Federation & Foundation of Rockland County\nPJ Library F
 amily Calendar\nhttps://jewishrockland.org/family-calendar/purim-carnival-
 1581086090\n\nFun for the whole family
DTSTART;TZID=America/New_York:20200301T100000
DTEND;TZID=America/New_York:20200301T120000
END:VEVENT
END:VCALENDAR
