BEGIN:VCALENDAR
PRODID:-//eluceo/ical//2.0/EN
VERSION:2.0
CALSCALE:GREGORIAN
BEGIN:VEVENT
UID:7ab7b50c5b7ab3adecb3632dcde78d15
DTSTAMP:20260425T192156Z
SUMMARY:Purim Carnival at CSI
DESCRIPTION:Jewish Federation & Foundation of Rockland County\nPJ Library F
 amily Calendar\nhttps://jewishrockland.org/family-calendar/purim-carnival-
 at-csi-1740876091-487333\n\nPURIM CARNIVAL AT CSI NYACK - Sunday\, March 9
  from 1-3 PM\nFood\, Music\, Games\, Arts & Crafts\nPrizes and Pure Joy\n$
 18:00 per adult $7:00 Per child $40 per family\nFor Security purposes RSVP
  office@csinyack.org\nAll are welcome!
DTSTART;TZID=America/New_York:20250309T130000
DTEND;TZID=America/New_York:20250309T150000
END:VEVENT
END:VCALENDAR
