BEGIN:VCALENDAR
PRODID:-//eluceo/ical//2.0/EN
VERSION:2.0
CALSCALE:GREGORIAN
BEGIN:VEVENT
UID:f55fed803668f8631bb6f97ae6ce2273
DTSTAMP:20260419T163355Z
SUMMARY:Rick Recht  Concert
DESCRIPTION:Jewish Federation & Foundation of Rockland County\nPJ Library F
 amily Calendar\nhttps://jewishrockland.org/family-calendar/rick-recht-pj-l
 ibrary-concert-1566246143\n\nRick Recht Free To Be Concert Tour
DTSTART;TZID=America/New_York:20190922T090000
DTEND;TZID=America/New_York:20190922T100000
END:VEVENT
END:VCALENDAR
