BEGIN:VCALENDAR
PRODID:-//eluceo/ical//2.0/EN
VERSION:2.0
CALSCALE:GREGORIAN
BEGIN:VEVENT
UID:0d1719cbbf557ee4e8b6601ca79a6c9a
DTSTAMP:20260425T032616Z
SUMMARY:Shabbat in the Park
DESCRIPTION:Jewish Federation & Foundation of Rockland County\nPJ Library F
 amily Calendar\nhttps://jewishrockland.org/family-calendar/shabbat-in-the-
 park-1561570449\n\nBring your picnic dinner and your lawn chair! It's The 
 Reform Temple of Rockland's Shabbat in the Park! Picnic starts at 5:30 PM 
 followed with music-filled Shabbat Services starting at 6:30 PM. Bring a s
 weet treat to share for our oneg after. Great service for families - LOTS 
 of wiggle room for the kids! See you there!
DTSTART;TZID=America/New_York:20190906T173000
DTEND;TZID=America/New_York:20190906T203000
END:VEVENT
END:VCALENDAR
