BEGIN:VCALENDAR
PRODID:-//eluceo/ical//2.0/EN
VERSION:2.0
CALSCALE:GREGORIAN
BEGIN:VEVENT
UID:da48d17447a5cf140cc58eeb183e4566
DTSTAMP:20260421T170039Z
SUMMARY:Shabbat Lab
DESCRIPTION:Jewish Federation & Foundation of Rockland County\nPJ Library F
 amily Calendar\nhttps://jewishrockland.org/family-calendar/shabbat-lab-157
 5930051\n\nShabbat with Cantor Rubin \, singing and joy  for all.
DTSTART;TZID=America/New_York:20200103T180000
DTEND;TZID=America/New_York:20200103T190000
END:VEVENT
END:VCALENDAR
