BEGIN:VCALENDAR
PRODID:-//eluceo/ical//2.0/EN
VERSION:2.0
CALSCALE:GREGORIAN
BEGIN:VEVENT
UID:27aa2f99c6ef919a9b95613fc0c517e6
DTSTAMP:20260425T024327Z
SUMMARY:Snacks and Storytime in the Sukkah
DESCRIPTION:Jewish Federation & Foundation of Rockland County\nPJ Library F
 amily Calendar\nhttps://jewishrockland.org/family-calendar/snacks-and-stor
 ytime-in-the-sukkah-1569266272\n\nJoin us as we read "Sadie's Sukkah Break
 fast"\, where two siblings plan a special breakfast in their family’s su
 kkah during the harvest festival of Sukkot and end up sharing it with some
  very special guests.\n\nWe will also read "A Watermelon in the Sukkah" wh
 ere Michael’s teacher told all her students to bring their favorite frui
 t to school so they could hang them from the roof of the sukkah. But Micha
 el’s favorite fruit is a big\, heavy watermelon -- and the roof of a suk
 kah is really j...
DTSTART;TZID=America/New_York:20191017T160000
DTEND;TZID=America/New_York:20191017T170000
END:VEVENT
END:VCALENDAR
