BEGIN:VCALENDAR
PRODID:-//eluceo/ical//2.0/EN
VERSION:2.0
CALSCALE:GREGORIAN
BEGIN:VEVENT
UID:4bce0908f0ea0fa7913041567f74b0ae
DTSTAMP:20260424T094134Z
SUMMARY:Soccer Clinics for Kindergarten & 1st Grade
DESCRIPTION:Jewish Federation & Foundation of Rockland County\nPJ Library F
 amily Calendar\nhttps://jewishrockland.org/family-calendar/soccer-clinics-
 for-kindergarten--1st-grade-1559671087\n\nSoccer clinic for children in Ki
 ndergarten and 1st grade. These co-ed soccer clinics provide an easy and f
 un introduction to soccer for your child. This motivational environment wi
 ll assist your child in learning the basics of soccer with fun exercises a
 nd techniques.\n\n$65 per child (Discounted rates available for JCC Rockla
 nd members)
DTSTART;TZID=America/New_York:20190908T130000
DTEND;TZID=America/New_York:20190908T140000
END:VEVENT
END:VCALENDAR
