BEGIN:VCALENDAR
PRODID:-//eluceo/ical//2.0/EN
VERSION:2.0
CALSCALE:GREGORIAN
BEGIN:VEVENT
UID:3b0d23390bab13862509984bb6a8b712
DTSTAMP:20260419T194359Z
SUMMARY:The Shabbat Breakfast Club
DESCRIPTION:Jewish Federation & Foundation of Rockland County\nPJ Library F
 amily Calendar\nhttps://jewishrockland.org/family-calendar/the-shabbat-bre
 akfast-club-1568658813\n\nWe are trying something new this year at the OJC
 : The Shabbat Breakfast Club!  Our children are already up VERY early - so
  come to synagogue for a very casual kids service\, followed by a FREE kid
  friendly breakfast - with cold brew coffee!  Join us on the 2nd Saturday 
 of each month for Singing...Stories...Shabbat...Shmooze...Breakfast.*This 
 program is geared towards young children (though 1st grade) and their grow
 nups - older siblings are always invited.
DTSTART;TZID=America/New_York:20191012T083000
DTEND;TZID=America/New_York:20191012T093000
END:VEVENT
END:VCALENDAR
