BEGIN:VCALENDAR
PRODID:-//eluceo/ical//2.0/EN
VERSION:2.0
CALSCALE:GREGORIAN
BEGIN:VEVENT
UID:f47886caa17ff4e15d56ce6daa9440c7
DTSTAMP:20260419T130353Z
SUMMARY:ToT Shabbat
DESCRIPTION:Jewish Federation & Foundation of Rockland County\nPJ Library F
 amily Calendar\nhttps://jewishrockland.org/family-calendar/tot-shabbat-156
 6921839\n\nTot Shabbat with Bethel Marcus at 11:00 in the school wing
DTSTART;TZID=America/New_York:20190921T000000
DTEND;TZID=America/New_York:20190921T000000
END:VEVENT
END:VCALENDAR
