BEGIN:VCALENDAR
PRODID:-//eluceo/ical//2.0/EN
VERSION:2.0
CALSCALE:GREGORIAN
BEGIN:VEVENT
UID:8fda423ff72cd972b1145318f65347e7
DTSTAMP:20260419T181000Z
SUMMARY:TOT Shabbat at CSI
DESCRIPTION:Jewish Federation & Foundation of Rockland County\nPJ Library F
 amily Calendar\nhttps://jewishrockland.org/family-calendar/tot-shabbat-at-
 1734553805-482509\n\nTot Shabbat is where families come to pray and play. 
 Twice a month\, we offer an interactive learning experience where little o
 nes\, ages 0-5 get exposure to basic prayers\, Jewish symbols \, stories a
 nd values\, all while playing with friends and family.\nAll children are w
 elcome to the Bima to join the rabbi for juice and challah\, followed by a
  beautiful kiddush luncheon.\nPre-School 9:30-10:45\nPlace: CSI\nTime: 10:
 45-11:20\nRSVP office@csinyack.org\nTwice monthly
DTSTART;TZID=America/New_York:20250426T223000
DTEND;TZID=America/New_York:20250426T232000
END:VEVENT
END:VCALENDAR
