BEGIN:VCALENDAR
PRODID:-//eluceo/ical//2.0/EN
VERSION:2.0
CALSCALE:GREGORIAN
BEGIN:VEVENT
UID:c382d59a2f550826003a0a4ea027226a
DTSTAMP:20260420T222158Z
SUMMARY:ToT Shabbat at Cong Sons of Israel
DESCRIPTION:Jewish Federation & Foundation of Rockland County\nPJ Library F
 amily Calendar\nhttps://jewishrockland.org/family-calendar/tot-shabbat-at-
 cong-sons-of-israel-1566921044\n\nTot Shabbat with Bethel Marcus at 11:00 
 am in the school wing
DTSTART;TZID=America/New_York:20190914T000000
DTEND;TZID=America/New_York:20190914T000000
END:VEVENT
END:VCALENDAR
