BEGIN:VCALENDAR
PRODID:-//eluceo/ical//2.0/EN
VERSION:2.0
CALSCALE:GREGORIAN
BEGIN:VEVENT
UID:73c714fb72edb9e72872221187072f7f
DTSTAMP:20260424T180316Z
SUMMARY:TOT Shabbat at CSI
DESCRIPTION:Jewish Federation & Foundation of Rockland County\nPJ Library F
 amily Calendar\nhttps://jewishrockland.org/family-calendar/tot-shabbat-at-
 csi-1760666902-503036\n\nJoin Morah Bethel Marcus for TOT Shabbat at CSI\,
  Nyack . \n10:45-11:30 for Pray and Play. Stay for Kiddush with friends \,
  fun and food.\nContact Francine to RSVP office@csinyack.org
DTSTART;TZID=America/New_York:20251115T104500
DTEND;TZID=America/New_York:20251115T113000
END:VEVENT
END:VCALENDAR
