BEGIN:VCALENDAR
PRODID:-//eluceo/ical//2.0/EN
VERSION:2.0
CALSCALE:GREGORIAN
BEGIN:VEVENT
UID:703970f3eedf779728f615fb4eb28d9b
DTSTAMP:20260424T221538Z
SUMMARY:TOT Shabbat at CSI
DESCRIPTION:Jewish Federation & Foundation of Rockland County\nPJ Library F
 amily Calendar\nhttps://jewishrockland.org/family-calendar/tot-shabbat-at-
 csi-1760889825-503106\n\nTOT Shabbat at CSI on January 24 at 10:45-11:30. 
 Children 0-5 will pray and play with Morah Bethel Marcus.\nRSVP for securi
 ty purposes : office@csinyack.org
DTSTART;TZID=America/New_York:20260124T104500
DTEND;TZID=America/New_York:20260124T113000
END:VEVENT
END:VCALENDAR
