BEGIN:VCALENDAR
PRODID:-//eluceo/ical//2.0/EN
VERSION:2.0
CALSCALE:GREGORIAN
BEGIN:VEVENT
UID:2144392fb9b47a7ba8a853cc5a4d3b59
DTSTAMP:20260421T102325Z
SUMMARY:TOT Shabbat at CSI
DESCRIPTION:Jewish Federation & Foundation of Rockland County\nPJ Library F
 amily Calendar\nhttps://jewishrockland.org/family-calendar/tot-shabbat-at-
 csi-feb-1-476850\n\nTot Shabbat is where families come to pray and play. T
 wice a month\, we offer an interactive learning experience where little on
 es ages 0-5 get exposure to basic prayers\, Jewish symbols \, stories and 
 values all while playing with friends and family. \nAll children are welco
 med to the Bima to join the Rabbi for juice and challah\, followed by a be
 autiful Kiddush luncheon.\nPlace: CSI -Nyack\nTime: 10:45-11:30 am\noffice
 @csinyack.org\nFeb 1 & 8
DTSTART;TZID=America/New_York:20250201T104500
DTEND;TZID=America/New_York:20250201T113000
END:VEVENT
END:VCALENDAR
