BEGIN:VCALENDAR
PRODID:-//eluceo/ical//2.0/EN
VERSION:2.0
CALSCALE:GREGORIAN
BEGIN:VEVENT
UID:7d423a039d7e4e18bf128093a771aa46
DTSTAMP:20260425T014946Z
SUMMARY:TOT Shabbat at CSI
DESCRIPTION:Jewish Federation & Foundation of Rockland County\nPJ Library F
 amily Calendar\nhttps://jewishrockland.org/family-calendar/tot-shabbat-at-
 csi-nov-6-476847\n\nTot Shabbat is where families come to pray and play. T
 wice a month\, we offer an interactive learning experience where little on
 es ages 0-5 get exposure to basic prayers\, Jewish symbols \, stories and 
 values all while playing with friends and family. \nAll children are welco
 med to the Bima to join the Rabbi for juice and challah\, followed by a be
 autiful Kiddush luncheon.\nPlace: CSI -Nyack\nTime: 10:45-11:30 am\noffice
 @csinyack.org\nNovember 2 & 16
DTSTART;TZID=America/New_York:20241106T104500
DTEND;TZID=America/New_York:20241106T113000
END:VEVENT
END:VCALENDAR
