BEGIN:VCALENDAR
PRODID:-//eluceo/ical//2.0/EN
VERSION:2.0
CALSCALE:GREGORIAN
BEGIN:VEVENT
UID:6d963ad0e4a7c12a1bc88700038baae1
DTSTAMP:20260422T021835Z
SUMMARY:Tot Shabbat at JCC Rockland
DESCRIPTION:Jewish Federation & Foundation of Rockland County\nPJ Library F
 amily Calendar\nhttps://jewishrockland.org/family-calendar/tot-shabbat-at-
 jcc-rockland-1741107451-487478\n\nThis vibrant monthly celebration will fe
 ature Rabbis and Cantors from our local synagogues\, songs\, blessings\, c
 hallah and more. Each family will receive a special Shabbat bag to continu
 e the celebration at home!\n\n$10 per Family\nIncludes Shabbat Bag\n\nhttp
 s://jccrockland.org/tot-shabbat/
DTSTART;TZID=America/New_York:20250321T100000
DTEND;TZID=America/New_York:20250321T104500
END:VEVENT
END:VCALENDAR
