BEGIN:VCALENDAR
PRODID:-//eluceo/ical//2.0/EN
VERSION:2.0
CALSCALE:GREGORIAN
BEGIN:VEVENT
UID:d0ec092edd278c549071f95025ac60d5
DTSTAMP:20260425T004714Z
SUMMARY:Tot Shabbat at JCC Rockland
DESCRIPTION:Jewish Federation & Foundation of Rockland County\nPJ Library F
 amily Calendar\nhttps://jewishrockland.org/family-calendar/tot-shabbat-at-
 jcc-rockland-1741107618-487481\n\nBring your little one and come celebrate
  Shabbat with us at JCC Rockland!\n\nThis vibrant monthly celebration will
  feature Rabbis and Cantors from our local synagogues\, songs\, blessings\
 , challah and more. Each family will receive a special Shabbat bag to cont
 inue the celebration at home!\n\n$10 per Family\nIncludes Shabbat Bag\n\nh
 ttps://jccrockland.org/tot-shabbat/
DTSTART;TZID=America/New_York:20250516T100000
DTEND;TZID=America/New_York:20250516T104500
END:VEVENT
END:VCALENDAR
