BEGIN:VCALENDAR
PRODID:-//eluceo/ical//2.0/EN
VERSION:2.0
CALSCALE:GREGORIAN
BEGIN:VEVENT
UID:a5fe58fcbc03becc80d5a1abf8625594
DTSTAMP:20260419T224548Z
SUMMARY:Tot Shabbat at JCC Rockland
DESCRIPTION:Jewish Federation & Foundation of Rockland County\nPJ Library F
 amily Calendar\nhttps://jewishrockland.org/family-calendar/tot-shabbat-at-
 jcc-rockland-1767382720-508028\n\nTot Shabbat at JCC Rockland\n\nBring you
 r little one and come celebrate Shabbat with us at JCC Rockland!\n\nThis v
 ibrant monthly celebration will feature Rabbis and Cantors from our local 
 synagogues\, songs\, blessings\, challah and more. Each family will receiv
 e a special Shabbat bag to continue the celebration at home!\n\n$10 Per Fa
 mily Including Bag
DTSTART;TZID=America/New_York:20260213T100000
DTEND;TZID=America/New_York:20260213T104500
END:VEVENT
END:VCALENDAR
