BEGIN:VCALENDAR
PRODID:-//eluceo/ical//2.0/EN
VERSION:2.0
CALSCALE:GREGORIAN
BEGIN:VEVENT
UID:a03d6d51fab0759f908e47150ea78cd6
DTSTAMP:20260424T231354Z
SUMMARY:Tot Shabbat at JCC Rockland
DESCRIPTION:Jewish Federation & Foundation of Rockland County\nPJ Library F
 amily Calendar\nhttps://jewishrockland.org/family-calendar/tot-shabbat-at-
 jcc-rockland-1767382946-508030\n\nTot Shabbat at JCC Rockland\n\nBring you
 r little one and come celebrate Shabbat with us at JCC Rockland!\n\nThis v
 ibrant monthly celebration will feature Rabbis and Cantors from our local 
 synagogues\, songs\, blessings\, challah and more. Each family will receiv
 e a special Shabbat bag to continue the celebration at home!\n\n$10 Per Fa
 mily Including Bag\n\nhttps://jccrockland.org/tot-shabbat/
DTSTART;TZID=America/New_York:20260515T100000
DTEND;TZID=America/New_York:20260515T104500
END:VEVENT
END:VCALENDAR
