BEGIN:VCALENDAR
PRODID:-//eluceo/ical//2.0/EN
VERSION:2.0
CALSCALE:GREGORIAN
BEGIN:VEVENT
UID:c503fdcab07704b9ac04ca655b3bdfed
DTSTAMP:20260421T162809Z
SUMMARY:Tot Shabbat with Bethel Marcus
DESCRIPTION:Jewish Federation & Foundation of Rockland County\nPJ Library F
 amily Calendar\nhttps://jewishrockland.org/family-calendar/tot-shabbat-wit
 h-bethel-marcus-1572966291\n\nRepeats January 25
DTSTART;TZID=America/New_York:20200104T110000
DTEND;TZID=America/New_York:20200104T120000
END:VEVENT
END:VCALENDAR
