BEGIN:VCALENDAR
PRODID:-//eluceo/ical//2.0/EN
VERSION:2.0
CALSCALE:GREGORIAN
BEGIN:VEVENT
UID:843d521228a4dd7f86ffb1f7d4990b01
DTSTAMP:20260419T174050Z
SUMMARY:Tot Shabbat with Temple Beth Sholom
DESCRIPTION:Jewish Federation & Foundation of Rockland County\nPJ Library F
 amily Calendar\nhttps://jewishrockland.org/family-calendar/tot-shabbat-wit
 h-temple-beth-sholom-1731687557-480492\n\nJoin Rabbi Leiken and Cantor Ann
 a at Temple Beth Sholom (on the 3rd floor of the JCC) for a fun-filled Sha
 bbat experience perfect for kids age pre-school - 2nd grade. We will serve
  pizza\, sing songs\, and Rabbi and Cantor will lead everyone in age-appro
 priate prayers to welcome Shabbat.
DTSTART;TZID=America/New_York:20250228T173000
DTEND;TZID=America/New_York:20250228T183000
END:VEVENT
END:VCALENDAR
