BEGIN:VCALENDAR
PRODID:-//eluceo/ical//2.0/EN
VERSION:2.0
CALSCALE:GREGORIAN
BEGIN:VEVENT
UID:92aa103a48c0c5f81f1cdef24ab5ae7f
DTSTAMP:20260419T174209Z
SUMMARY:Winter Warm-up Open House at JCC Rockland!
DESCRIPTION:Jewish Federation & Foundation of Rockland County\nPJ Library F
 amily Calendar\nhttps://jewishrockland.org/family-calendar/winter-warm-up-
 open-house-at-jcc-rockland-1574443391\n\nThe JCC offers 100 weekly group e
 xercise classes--come try a workout:\nGroup Cycling\, Fitness 450\, Yoga\,
  Pilates Reformer\, Stroller Strides&reg\;\, Rowing\, and more!\n \nFree b
 abysitting during the event\, plus use of our locker rooms with sauna\, st
 eam room\, and full amenities. \n \nWe know you will love it. Join the JCC
  during the event and save BIG on Fitness Membership and other programs. \
 n
DTSTART;TZID=America/New_York:20200126T000000
DTEND;TZID=America/New_York:20200126T000000
END:VEVENT
END:VCALENDAR
